Workbook

Sheet Data_Max
A1: Maxwell Plaza
A3: General data: | E3: Mortgage financing:
A4: Price | C4: 6900000 | E4: Principal amount borrowed | F4: $4.4M | G4: 4400000
A5: Required return (levered, after-tax) | C5: 0.12 | E5: Interest rate | F5: 0.0575 | G5: 0.0575
A6: Property type | B6: Office | E6: Amortization period | F6: 30 years | G6: 30
A7: Rentable SF | B7: 32000 | C7: 32000 | E7: Maturity | F7: 5 years | G7: 5
A8: Number of tenants | B8: 3 | E8: Payment frequency | F8: Annual
E9: Origination fee | F9: 1.5% of initial balance | G9: 0.015
E11: Tax information:
E12: Marginal income tax rate | G12: 0.35
E13: Capital gains tax rate | G13: 0.2
E14: Depreciation recapture rate | G14: 0.25
E15: Other passive income | G15: None
E16: Land value | G16: 2500000
E17: Structure and improvements | G17: =C4-G16 -> 4400000
E18: Economic life - structure | G18: 39
E19: Economic life - capital expenditures | G19: 10
E20: Economic life - TI | G20: 15
E21: Lease term | G21: 5

Sheet BTCF_Max
A1: Cash Flow
A2: Maxell Medical Center (Amounts in USD)
A3: Jan, 2020 through Dec, 2025
A4: 11/19/2019 9:06:00 AM
C6: Forecast | D6: Forecast | E6: Forecast | F6: Forecast | G6: Forecast | H6: Forecast | I6: Forecast
C8: Year 1 | D8: Year 2 | E8: Year 3 | F8: Year 4 | G8: Year 5 | H8: Year 6
A9: For the Years Ending | C9: Dec-2020 | D9: Dec-2021 | E9: Dec-2022 | F9: Dec-2023 | G9: Dec-2024 | H9: Dec-2025 | I9: Total
A11: Rental Revenue
A12: Potential Base Rent | C12: 670869 | D12: 687640 | E12: 722340 | F12: 756307 | G12: 775215 | H12: 808551 | I12: 4420921
A13: Absorption & Turnover Vacancy | C13: 0 | D13: 0 | E13: -18477 | F13: 0 | G13: 0 | H13: -17003 | I13: -35480
A14: Scheduled Base Rent | C14: 670869 | D14: 687640 | E14: 703863 | F14: 756307 | G14: 775215 | H14: 791548 | I14: 4385441
A15: Total Rental Revenue | C15: 670869 | D15: 687640 | E15: 703863 | F15: 756307 | G15: 775215 | H15: 791548 | I15: 4385441
A17: Other Tenant Revenue
A18: Total Expense Recoveries | C18: 34735 | D18: 42174 | E18: 27672 | F18: 8540 | G18: 16670 | H18: 14125 | I18: 143916
A19: Total Other Tenant Revenue | C19: 34735 | D19: 42174 | E19: 27672 | F19: 8540 | G19: 16670 | H19: 14125 | I19: 143916
A21: Total Tenant Revenue | C21: 705604 | D21: 729815 | E21: 731534 | F21: 764847 | G21: 791884 | H21: 805673 | I21: 4529357
A23: Parking Revenue
A24: Parking | C24: 90000 | D24: 92700 | E24: 95481 | F24: 98345 | G24: 101296 | H24: 104335 | I24: 582157
A25: Total Other Revenue | C25: 90000 | D25: 92700 | E25: 95481 | F25: 98345 | G25: 101296 | H25: 104335 | I25: 582157
A27: Potential Gross Revenue | C27: 795604 | D27: 822515 | E27: 827015 | F27: 863193 | G27: 893180 | H27: 910008 | I27: 5111514
A29: Effective Gross Revenue | C29: 795604 | D29: 822515 | E29: 827015 | F29: 863193 | G29: 893180 | H29: 910008 | I29: 5111514
A31: Operating Expenses
A32: RE Tax | C32: 85000 | D32: 87550 | E32: 90177 | F32: 92882 | G32: 95668 | H32: 98538 | I32: 549815
A33: Insurance | C33: 29500 | D33: 30385 | E33: 31297 | F33: 32235 | G33: 33203 | H33: 34199 | I33: 190818
A34: Janitorial | C34: 76800 | D34: 79104 | E34: 79965 | F34: 83921 | G34: 86439 | H34: 87641 | I34: 493871
A35: CAM | C35: 30400 | D35: 31312 | E35: 32251 | F35: 33219 | G35: 34215 | H35: 35242 | I35: 196640
A36: Repairs & Maintenance | C36: 26280 | D36: 27068 | E36: 27880 | F36: 28717 | G36: 29578 | H36: 30466 | I36: 169990
A37: Mgmt fee | C37: 13417 | D37: 13753 | E37: 14077 | F37: 15126 | G37: 15504 | H37: 15831 | I37: 87709
A38: Total Operating Expenses | C38: 261397 | D38: 269172 | E38: 275647 | F38: 286101 | G38: 294608 | H38: 301917 | I38: 1688842
A40: Net Operating Income | C40: 534206 | D40: 553342 | E40: 551368 | F40: 577092 | G40: 598572 | H40: 608091 | I40: 3422672
A42: Leasing Costs
A43: Tenant Improvements | C43: 0 | D43: 0 | E43: 60471 | F43: 79223 | G43: 0 | H43: 55645 | I43: 195339
A44: Leasing Commissions | C44: 0 | D44: 0 | E44: 26607 | F44: 34858 | G44: 0 | H44: 24484 | I44: 85949
A45: Total Leasing Costs | C45: 0 | D45: 0 | E45: 87079 | F45: 114081 | G45: 0 | H45: 80129 | I45: 281288
A47: Capital Expenditures
A48: Reserve | C48: 9600 | D48: 9888 | E48: 10185 | F48: 10490 | G48: 10805 | H48: 11129 | I48: 62097
A49: Total Capital Expenditures | C49: 9600 | D49: 9888 | E49: 10185 | F49: 10490 | G49: 10805 | H49: 11129 | I49: 62097
A51: Total Leasing & Capital Costs | C51: 9600 | D51: 9888 | E51: 97263 | F51: 124571 | G51: 10805 | H51: 91258 | I51: 343385
A53: Cash Flow Before Debt Service | C53: 524606 | D53: 543454 | E53: 454105 | F53: 452521 | G53: 587767 | H53: 516833 | I53: 3079287
A55: Debt Service
...

Sheet ATCF_Max
B1: 0 | C1: =B1+1 -> 1 | D1: =C1+1 -> 2 | E1: =D1+1 -> 3 | F1: =E1+1 -> 4 | G1: =F1+1 -> 5
C3: =[1]NOI!C3 -> 43831 | D3: =[1]NOI!D3 -> 44197 | E3: =[1]NOI!E3 -> 44562 | F3: =[1]NOI!F3 -> 44927 | G3: =[1]NOI!G3 -> 45292
A4: Before tax:
A5: Before tax cash flow from operations | C5: =BTCF_Max!C68 -> 188542 | D5: =BTCF_Max!D68 -> 207390 | E5: =BTCF_Max!E68 -> 118041 | F5: =BTCF_Max!F68 -> 116457 | G5: =BTCF_Max!G68 -> 251703
A6: Origination fee | B6: =-Data_Max!G9*Data_Max!G4 -> -66000
A7: Before tax cash flow from sale | G7: 5212476.8
A8: Before tax cash flow | B8: =-Data_Max!C4+Data_Max!G4+ATCF_Max!B6 -> -2566000 | C8: =C5+C7 -> 188542 | D8: =D5+D7 -> 207390 | E8: =E5+E7 -> 118041 | F8: =F5+F7 -> 116457 | G8: =G5+G7 -> 5464179.8
A9: BTIRR | B9: =IRR(B8:G8) -> 0.20570048
A11: After tax:
A12: After tax cash flow from operations | C12: =C5-C26 -> 134563.08 | D12: =D5-D26 -> 145387.96 | E12: =E5-E26 -> 58591.964 | F12: =F5-F26 -> 50790.961 | G12: =G5-G26 -> 176919.99
A13: After tax cash flow from sale | G13: =G7-G41 -> 4628583.7
A14: After tax cash flow | B14: =B8 -> -2566000 | C14: =C12+C13 -> 134563.08 | D14: =D12+D13 -> 145387.96 | E14: =E12+E13 -> 58591.964 | F14: =F12+F13 -> 50790.961 | G14: =G12+G13 -> 4805503.7
A15: ATIRR | B15: =IRR(B14:G14) -> 0.16112496
A17: Taxable income:
A18: NOI | C18: =BTCF_Max!C40 -> 534206 | D18: =BTCF_Max!D40 -> 553342 | E18: =BTCF_Max!E40 -> 551368 | F18: =BTCF_Max!F40 -> 577092 | G18: =BTCF_Max!G40 -> 598572
A19: Mortgage interest | C19: =BTCF_Max!C58 -> 253000 | D19: =BTCF_Max!D58 -> 248224 | E19: =BTCF_Max!E58 -> 243173 | F19: =BTCF_Max!F58 -> 237832 | G19: =BTCF_Max!G58 -> 232183
A20: Amortization - orig fee | C20: =-B6/Data_Max!G7 -> 13200 | D20: =C20 -> 13200 | E20: =D20 -> 13200 | F20: =E20 -> 13200 | G20: =F20 -> 13200
A21: Depreciation - structure | C21: =Data_Max!G17/Data_Max!G18 -> 112820.51 | D21: =C21 -> 112820.51 | E21: =D21 -> 112820.51 | F21: =E21 -> 112820.51 | G21: =F21 -> 112820.51
A22: Depreciation - reserves | C22: =BTCF_Max!$C$49/Data_Max!$G$19 -> 960 | D22: =C22+BTCF_Max!D48/Data_Max!G19 -> 1948.8 | E22: =D22+BTCF_Max!E48/Data_Max!G19 -> 2967.3 | F22: =E22+BTCF_Max!F49/Data_Max!G19 -> 4016.3 | G22: =F22+BTCF_Max!G49/Data_Max!G19 -> 5096.8
A23: Depreciation - TI | C23: 0 | D23: 0 | E23: =BTCF_Max!E43/Data_Max!$G$20 -> 4031.4 | F23: =E23+BTCF_Max!F43/Data_Max!$G$20 -> 9312.9333 | G23: =F23 -> 9312.9333
A24: Amortization - lease commission | C24: 0 | D24: 0 | E24: =BTCF_Max!E44/Data_Max!$G$21 -> 5321.4 | F24: =E24+BTCF_Max!F44/Data_Max!$G$21 -> 12293 | G24: =F24 -> 12293
A25: Taxable income | C25: =C18-SUM(C19:C24) -> 154225.49 | D25: =D18-SUM(D19:D24) -> 177148.69 | E25: =E18-SUM(E19:E24) -> 169854.39 | F25: =F18-SUM(F19:F24) -> 187617.25 | G25: =G18-SUM(G19:G24) -> 213665.75
A26: Tax liability | C26: =C25*Data_Max!$G$12 -> 53978.921 | D26: =D25*Data_Max!$G$12 -> 62002.041 | E26: =E25*Data_Max!$G$12 -> 59449.036 | F26: =F25*Data_Max!$G$12 -> 65666.039 | G26: =G25*Data_Max!$G$12 -> 74783.014
A28: Taxable capital gain:
A29: Purchase price | G29: =Data_Max!C4 -> 6900000
A30: Accumulated depreciation | G30: =-(SUM(C21:G21)+SUM(C22:G22)) -> -579091.76
A31: Accumulated capital exp | G31: =SUM(BTCF_Max!C49:G49) -> 50968
A32: Book value | G32: =G29+G30+G31 -> 6371876.2
A34: Taxable capital gain | G34: =9146568.81781176-G32 -> 2774692.6
A35: Accumulated depreciation | G35: =-G30 -> 579091.76
A36: Capital appreciation | G36: =G34-G35 -> 2195600.8
A38: Tax liability
A39: Capital gain | G39: =G36*Data_Max!G13 -> 439120.16
A40: Depreciation recapture | G40: =G35*Data_Max!G14 -> 144772.94
A41: Total capital gain tax | G41: =G39+G40 -> 583893.1

Sheet Data_Turtle
A1: Turtle Tower
A3: General data: | E3: Mortgage financing:
A4: Price | C4: 8750000 | E4: Principal amount borrowed | G4: 4789124
A5: Required return (levered, after-tax) | C5: 0.12 | E5: Interest rate | G5: 0.0575
A6: Property type | B6: Multi-use (Office, Retail) | E6: Amortization period | F6: 25 years | G6: 300
A7: Rentable SF | C7: 33000 | E7: Maturity | G7: 5
A8: Number of tenants | C8: 4 | E8: Payment frequency | F8: Annual
E9: Origination fee | F9: 0.02 | G9: 0.02
E11: Tax information:
E12: Marginal income tax rate | G12: 0.35
E13: Capital gains tax rate | G13: 0.2
E14: Depreciation recapture rate | G14: 0.25
E15: Other passive income | G15: None
E16: Land value | G16: 3000000
E17: Structure and improvements | G17: =C4-G16 -> 5750000
E18: Economic life - structure | G18: 39
E19: Economic life - capital expenditures | G19: 10
E20: Economic life - TI | G20: 15
E21: Lease term | G21: 5

Sheet BTCF_Turtle
A1: Cash Flow
A2: Turtle Tower (Amounts in USD)
A3: Jan, 2020 through Dec, 2025
A4: 11/23/2019 7:03:09 AM
B6: Forecast | C6: Forecast | D6: Forecast | E6: Forecast | F6: Forecast
B8: Year 1 | C8: Year 2 | D8: Year 3 | E8: Year 4 | F8: Year 5
A9: For the Years Ending | B9: Dec-2020 | C9: Dec-2021 | D9: Dec-2022 | E9: Dec-2023 | F9: Dec-2024
A11: Rental Revenue
A12: Potential Base Rent | B12: 726800 | C12: 742555 | D12: 758701 | E12: 814919 | F12: 855619
A13: Absorption & Turnover Vacancy | B13: -96979 | C13: 0 | D13: 0 | E13: 0 | F13: -25244
A14: Free Rent | B14: -21250 | C14: -21750 | D14: -22250 | E14: 0 | F14: 0
A15: Scheduled Base Rent | B15: 608571 | C15: 720805 | D15: 736451 | E15: 814919 | F15: 830375
A16: Total Rental Revenue | B16: 608571 | C16: 720805 | D16: 736451 | E16: 814919 | F16: 830375
A18: Other Tenant Revenue
A19: Total Expense Recoveries | B19: 105590 | C19: 120503 | D19: 127591 | E19: 82231 | F19: 66454
A20: Total Other Tenant Revenue | B20: 105590 | C20: 120503 | D20: 127591 | E20: 82231 | F20: 66454
A22: Total Tenant Revenue | B22: 714161 | C22: 841308 | D22: 864042 | E22: 897150 | F22: 896829
A24: Parking Revenue
A25: Parking | B25: 158409 | C25: 185400 | D25: 190962 | E25: 196691 | F25: 196452
A26: Total Other Revenue | B26: 158409 | C26: 185400 | D26: 190962 | E26: 196691 | F26: 196452
A28: Potential Gross Revenue | B28: 872570 | C28: 1026708 | D28: 1055004 | E28: 1093841 | F28: 1093281
A30: Effective Gross Revenue | B30: 872570 | C30: 1026708 | D30: 1055004 | E30: 1093841 | F30: 1093281
A32: Operating Expenses
A33: RE Tax | B33: 125000 | C33: 127500 | D33: 130050 | E33: 132651 | F33: 135304
A34: Ins | B34: 55000 | C34: 56650 | D34: 58350 | E34: 60100 | F34: 61903
A35: Utilities | B35: 97301 | C35: 110128 | D35: 113431 | E35: 116834 | F35: 117604
A36: Repairs & Maintenant | B36: 26280 | C36: 27200 | D36: 28152 | E36: 29137 | F36: 30157
A37: Mgmt | B37: 17451 | C37: 20534 | D37: 21100 | E37: 21877 | F37: 21866
A38: Total Operating Expenses | B38: 321033 | C38: 342012 | D38: 351083 | E38: 360599 | F38: 366834
A40: Net Operating Income | B40: 551537 | C40: 684697 | D40: 703921 | E40: 733242 | F40: 726447
A42: Leasing Costs
A43: Tenant Improvements | B43: 0 | C43: 0 | D43: 0 | E43: 65564 | F43: 47271
A44: Leasing Commissions | B44: 0 | C44: 0 | D44: 26593 | E44: 26593 | F44: 35147
A45: Total Leasing Costs | B45: 0 | C45: 0 | D45: 26593 | E45: 92157 | F45: 82418
A47: Capital Expenditures
A48: Reserve | B48: 6600 | C48: 6798 | D48: 7002 | E48: 7212 | F48: 7428
A49: Roof | B49: 0 | C49: 0 | D49: 43750 | E49: 0 | F49: 0
A50: Total Capital Expenditures | B50: 6600 | C50: 6798 | D50: 50752 | E50: 7212 | F50: 7428
A52: Total Leasing & Capital Costs | B52: 6600 | C52: 6798 | D52: 77345 | E52: 99369 | F52: 89846
A54: Cash Flow Before Debt Service | B54: 544937 | C54: 677899 | D54: 626576 | E54: 633873 | F54: 636601
...

Sheet ATCF_Turtle
B1: 0 | C1: =B1+1 -> 1 | D1: =C1+1 -> 2 | E1: =D1+1 -> 3 | F1: =E1+1 -> 4 | G1: =F1+1 -> 5
C3: =[1]NOI!C3 -> 43831 | D3: =[1]NOI!D3 -> 44197 | E3: =[1]NOI!E3 -> 44562 | F3: =[1]NOI!F3 -> 44927 | G3: =[1]NOI!G3 -> 45292
A4: Before tax:
A5: Before tax cash flow from operations | C5: =[2]BTCF_Turtle!B69 -> 179152 | D5: =[2]BTCF_Turtle!C69 -> 312115 | E5: =[2]BTCF_Turtle!D69 -> 260791 | F5: =[2]BTCF_Turtle!E69 -> 268089 | G5: =[2]BTCF_Turtle!F69 -> 270816
A6: Origination fee | B6: =-[2]Data_Turtle!G10*[2]Data_Turtle!G4 -> -95782.48
A7: Before tax cash flow from sale | G7: 7991319.9
A8: Before tax cash flow | B8: =-([2]Data_Turtle!C4-B6-[2]Data_Turtle!G4) -> -4056658.5 | C8: =C5+C7 -> 179152 | D8: =D5+D7 -> 312115 | E8: =E5+E7 -> 260791 | F8: =F5+F7 -> 268089 | G8: =G5+G7 -> 8262135.9
A9: BTIRR | B9: =IRR(B8:G8) -> 0.19413255
A11: After tax:
A12: After tax cash flow from operations | C12: =C5-C26 -> 141033.64 | D12: =D5-D26 -> 225808.92 | E12: =E5-E26 -> 169470.05 | F12: =F5-F26 -> 168114.9 | G12: =G5-G26 -> 174891.61
A13: After tax cash flow from sale | G13: =G7-G41 -> 7112259.1
A14: After tax cash flow | B14: =B8 -> -4056658.5 | C14: =C12+C13 -> 141033.64 | D14: =D12+D13 -> 225808.92 | E14: =E12+E13 -> 169470.05 | F14: =F12+F13 -> 168114.9 | G14: =G12+G13 -> 7287150.7
A15: ATIRR | B15: =IRR(B14:G14) -> 0.15405055
A17: Taxable income:
A18: NOI | C18: =[2]BTCF_Turtle!B40 -> 551537 | D18: =[2]BTCF_Turtle!C40 -> 684697 | E18: =[2]BTCF_Turtle!D40 -> 703921 | F18: =[2]BTCF_Turtle!E40 -> 733242 | G18: =[2]BTCF_Turtle!F40 -> 726447
A19: Mortgage interest | C19: =[2]BTCF_Turtle!B58 -> 275375 | D19: =[2]BTCF_Turtle!C58 -> 270176 | E19: =[2]BTCF_Turtle!D58 -> 264678 | F19: =[2]BTCF_Turtle!E58 -> 258865 | G19: =[2]BTCF_Turtle!F58 -> 252717
A20: Amortization - orig fee | C20: =-B6/[2]Data_Turtle!G8 -> 19156.496 | D20: =C20 -> 19156.496 | E20: =D20 -> 19156.496 | F20: =E20 -> 19156.496 | G20: =F20 -> 19156.496
A21: Depreciation - structure | C21: =[2]Data_Turtle!G18/[2]Data_Turtle!G19 -> 147435.9 | D21: =C21 -> 147435.9 | E21: =D21 -> 147435.9 | F21: =E21 -> 147435.9 | G21: =F21 -> 147435.9
A22: Depreciation - reserves | C22: =[2]BTCF_Turtle!B48/[2]Data_Turtle!G20 -> 660 | D22: =SUM([2]BTCF_Turtle!B50:C50)/[2]Data_Turtle!G20 -> 1339.8 | E22: =SUM([2]BTCF_Turtle!B50:D50)/10 -> 6415 | F22: =SUM([2]BTCF_Turtle!B50:E50)/[2]Data_Turtle!G20 -> 7136.2 | G22: =SUM([2]BTCF_Turtle!B50:F50)/[2]Data_Turtle!G20 -> 7879
A23: Depreciation - TI | C23: =[2]BTCF_Turtle!B43 -> 0 | D23: =[2]BTCF_Turtle!C43 -> 0 | E23: =[2]BTCF_Turtle!D43 -> 0 | F23: =[2]BTCF_Turtle!E43/[2]Data_Turtle!G21 -> 4370.9333 | G23: =F23+[2]BTCF_Turtle!F43/[2]Data_Turtle!G21 -> 7522.3333
A24: Amortization - lease commission | C24: =[2]BTCF_Turtle!B44 -> 0 | D24: =[2]BTCF_Turtle!C44 -> 0 | E24: =[2]BTCF_Turtle!D44/[2]Data_Turtle!G22 -> 5318.6 | F24: =E24+[2]BTCF_Turtle!E44/[2]Data_Turtle!G22 -> 10637.2 | G24: =F24+[2]BTCF_Turtle!F44/[2]Data_Turtle!G22 -> 17666.6
A25: Taxable income | C25: =C18-SUM(C19:C24) -> 108909.61 | D25: =D18-SUM(D19:D24) -> 246588.81 | E25: =E18-SUM(E19:E24) -> 260917.01 | F25: =F18-SUM(F19:F24) -> 285640.27 | G25: =G18-SUM(G19:G24) -> 274069.67
A26: Tax liability | C26: =C25*[2]Data_Turtle!$G$13 -> 38118.362 | D26: =D25*[2]Data_Turtle!$G$13 -> 86306.082 | E26: =E25*[2]Data_Turtle!$G$13 -> 91320.952 | F26: =F25*[2]Data_Turtle!$G$13 -> 99974.096 | G26: =G25*[2]Data_Turtle!$G$13 -> 95924.386
A28: Taxable capital gain:
A29: Purchase price | G29: =[2]Data_Turtle!C4 -> 8750000
A30: Accumulated depreciation | G30: =-(SUM(C21:G21)+SUM(C22:G22)) -> -760609.49
A31: Accumulated capital exp | G31: =SUM([2]BTCF_Turtle!B50:F50) -> 78790
A32: Book value | G32: =G29+G30+G31 -> 8068180.5
A34: Taxable capital gain | G34: =12273331.8769125-G32 -> 4205151.4
A35: Accumulated depreciation | G35: =-G30 -> 760609.49
A36: Capital appreciation | G36: =G34-G35 -> 3444541.9
A38: Tax liability
A39: Capital gain | G39: =G36*[2]Data_Turtle!G14 -> 688908.38
A40: Depreciation recapture | G40: =G35*[2]Data_Turtle!G15 -> 190152.37
A41: Total capital gain tax | G41: =G39+G40 -> 879060.75

Sheet InvAnalysis
B1: Maxwell Medical | C1: Turtle Tower
A3: Rentable square footage | B3: =Data_Max!C7 -> 32000
A4: Purchase price | B4: =Data_Max!C4 -> 6900000
A5: Initial cap rate | B5: =BTCF_Max!C40/B4 -> 0.077421159
A6: Terminal cap rate | B6: 0.065
A7: LTV ratio (based on purchase price) | B7: =Data_Max!G4/Data_Max!C4 -> 0.63768116
A8: Required equity investment | B8: =-ATCF_Max!B14 -> 2566000
A9: Debt coverage ratio (Year 1) | B9: =BTCF_Max!C40/BTCF_Max!C64 -> 1.589596
A11: Before-tax analysis:
A12: BTIRR | B12: =ATCF_Max!B9 -> 0.20570048
A13: % of BTIRR from operations | B13: =NPV(B12,ATCF_Max!C5:G5)/B8 -> 0.20275772
A14: % of BTIRR from sale | B14: =1-B13 -> 0.79724228
A15: Equity dividend rate (Year 1) | B15: =BTCF_Max!C68/InvAnalysis!B8 -> 0.073477007
A17: After-tax analysis:
A18: NPV (12% req'd return) | B18: =NPV(Data_Max!C5,ATCF_Max!C14:G14)-B8 -> 470803.03
A19: Profitability ratio | B19: =B18/B8 -> 0.18347741
A20: ATIRR | B20: =ATCF_Max!B15 -> 0.16112496
A21: % of ATIRR from operations | B21: =NPV(B20,ATCF_Max!C5:G5)/B8 -> 0.22406001
A22: % of ATIRR from tax | B22: =-NPV(0.12,ATCF_Max!C26:G26)/B8 -> -0.087335778
A23: % of ATIRR from sale | B23: =1-B21-B22 -> 0.86327576
A24: Modified ATIRR (5% reinvest, 5.75% fin) | B24: =MIRR(ATCF_Max!B14:G14,0.05,0.0575%) -> 0.15152681
A25: Effective tax rate | B25: =1-(B20/B12) -> 0.21670109
